BEGIN:VCALENDAR
VERSION:2.0
PRODID:-//Girlguiding Surrey West County - ECPv6.15.18//NONSGML v1.0//EN
CALSCALE:GREGORIAN
METHOD:PUBLISH
X-ORIGINAL-URL:https://www.ggsw.org.uk
X-WR-CALDESC:Events for Girlguiding Surrey West County
REFRESH-INTERVAL;VALUE=DURATION:PT1H
X-Robots-Tag:noindex
X-PUBLISHED-TTL:PT1H
BEGIN:VTIMEZONE
TZID:UTC
BEGIN:STANDARD
TZOFFSETFROM:+0000
TZOFFSETTO:+0000
TZNAME:UTC
DTSTART:20220101T000000
END:STANDARD
END:VTIMEZONE
BEGIN:VEVENT
DTSTART;TZID=UTC:20230429T100000
DTEND;TZID=UTC:20230430T150000
DTSTAMP:20260420T044823
CREATED:20230216T143110Z
LAST-MODIFIED:20230321T142510Z
UID:474-1682762400-1682866800@www.ggsw.org.uk
SUMMARY:Camp Skills Weekend for Guides - SOLD OUT
DESCRIPTION:Event now sold out\n\nSign up : Girls aged 5-8
URL:https://www.ggsw.org.uk/event/camp-skills-weekend-for-guides/
LOCATION:Herons Wey\, Sheephatch Lane\, Tilford\, Surrey\, GU10 2AQ\, United Kingdom
ATTACH;FMTTYPE=image/png:https://www.ggsw.org.uk/wp-content/uploads/2023/02/Untitled297×210mm1920×1080pxInstagramPostSquare.png
END:VEVENT
END:VCALENDAR